BEGIN:VCALENDAR
VERSION:2.0
PRODID:-//Belgrade Community Action Association - ECPv6.15.17.1//NONSGML v1.0//EN
CALSCALE:GREGORIAN
METHOD:PUBLISH
X-ORIGINAL-URL:https://bcaa-nc.org
X-WR-CALDESC:Events for Belgrade Community Action Association
REFRESH-INTERVAL;VALUE=DURATION:PT1H
X-Robots-Tag:noindex
X-PUBLISHED-TTL:PT1H
BEGIN:VTIMEZONE
TZID:America/New_York
BEGIN:DAYLIGHT
TZOFFSETFROM:-0500
TZOFFSETTO:-0400
TZNAME:EDT
DTSTART:20250309T070000
END:DAYLIGHT
BEGIN:STANDARD
TZOFFSETFROM:-0400
TZOFFSETTO:-0500
TZNAME:EST
DTSTART:20251102T060000
END:STANDARD
BEGIN:DAYLIGHT
TZOFFSETFROM:-0500
TZOFFSETTO:-0400
TZNAME:EDT
DTSTART:20260308T070000
END:DAYLIGHT
BEGIN:STANDARD
TZOFFSETFROM:-0400
TZOFFSETTO:-0500
TZNAME:EST
DTSTART:20261101T060000
END:STANDARD
BEGIN:DAYLIGHT
TZOFFSETFROM:-0500
TZOFFSETTO:-0400
TZNAME:EDT
DTSTART:20270314T070000
END:DAYLIGHT
BEGIN:STANDARD
TZOFFSETFROM:-0400
TZOFFSETTO:-0500
TZNAME:EST
DTSTART:20271107T060000
END:STANDARD
END:VTIMEZONE
BEGIN:VEVENT
DTSTART;TZID=America/New_York:20260506T180000
DTEND;TZID=America/New_York:20260506T190000
DTSTAMP:20260423T123550
CREATED:20260409T142305Z
LAST-MODIFIED:20260409T142317Z
UID:2705-1778090400-1778094000@bcaa-nc.org
SUMMARY:Monthly Board Meeting - May
DESCRIPTION:
URL:https://bcaa-nc.org/event/monthly-board-meeting-copy/
END:VEVENT
BEGIN:VEVENT
DTSTART;VALUE=DATE:20260516
DTEND;VALUE=DATE:20260517
DTSTAMP:20260423T123550
CREATED:20260409T142547Z
LAST-MODIFIED:20260409T142547Z
UID:2704-1778889600-1778975999@bcaa-nc.org
SUMMARY:Community Cleanup Day
DESCRIPTION:Come out and join us for Community Cleanup Day as we work together to spruce up the Belgrade Community Center! We’ll be repairing tables and chairs\, cleaning the grounds\, and organizing the concession and storage areas. Whether you can lend a hand for a little while or stay the whole time\, all help is appreciated as we come together to keep our community center looking its best.
URL:https://bcaa-nc.org/event/community-cleanup-day/
END:VEVENT
BEGIN:VEVENT
DTSTART;TZID=America/New_York:20260627T170000
DTEND;TZID=America/New_York:20260627T200000
DTSTAMP:20260423T123550
CREATED:20260323T222726Z
LAST-MODIFIED:20260323T222726Z
UID:2355-1782579600-1782590400@bcaa-nc.org
SUMMARY:Classic Man
DESCRIPTION:
URL:https://bcaa-nc.org/event/classic-man/
END:VEVENT
BEGIN:VEVENT
DTSTART;VALUE=DATE:20260912
DTEND;VALUE=DATE:20260913
DTSTAMP:20260423T123550
CREATED:20260323T222621Z
LAST-MODIFIED:20260323T222621Z
UID:2353-1789171200-1789257599@bcaa-nc.org
SUMMARY:Family Ties Community Day
DESCRIPTION:
URL:https://bcaa-nc.org/event/family-ties-community-day/
END:VEVENT
END:VCALENDAR